BEGIN:VCALENDAR
VERSION:2.0
PRODID:-//wp-events-plugin.com//7.2.3.1//EN
TZID:Europe/Stockholm
X-WR-TIMEZONE:Europe/Stockholm
BEGIN:VEVENT
UID:167@hgjvk.se
DTSTART;TZID=Europe/Stockholm:20201117T110000
DTEND;TZID=Europe/Stockholm:20201117T130000
DTSTAMP:20201103T070851Z
URL:https://hgjvk.se/events/hogviltsprov-26/
SUMMARY:Högviltsprov
DESCRIPTION:För att kunna göra högviltsprov krävs ett godkänt teoripro
 v och grundprov kula.\n\nMedtag legitimation\, hörselskydd och grön fold
 er jägarexamensbevis
LOCATION:Säve Skjutbana\, Nya gärdets väg 101\, Göteborg\, Sverige
X-APPLE-STRUCTURED-LOCATION;VALUE=URI;X-ADDRESS=Nya gärdets väg 101\, Gö
 teborg\, Sverige;X-APPLE-RADIUS=100;X-TITLE=Säve Skjutbana:geo:0,0
END:VEVENT
BEGIN:VTIMEZONE
TZID:Europe/Stockholm
X-LIC-LOCATION:Europe/Stockholm
BEGIN:STANDARD
DTSTART:20201025T020000
TZOFFSETFROM:+0200
TZOFFSETTO:+0100
TZNAME:CET
END:STANDARD
END:VTIMEZONE
END:VCALENDAR