BEGIN:VCALENDAR
VERSION:2.0
PRODID:-//wp-events-plugin.com//7.2.3.1//EN
TZID:Europe/Stockholm
X-WR-TIMEZONE:Europe/Stockholm
BEGIN:VEVENT
UID:85@hgjvk.se
DTSTART;TZID=Europe/Stockholm:20200629T150000
DTEND;TZID=Europe/Stockholm:20200629T170000
DTSTAMP:20200608T084632Z
URL:https://hgjvk.se/events/hogviltprov-for-kulgevar-23/
SUMMARY:Högviltprov för kulgevär
DESCRIPTION:För att kunna göra högviltprov för kulgevär krävs ett god
 känt grundprov kula och teoriprov.\n\nMedtag legitimiation\, hörselskydd
  och grön folder jägarexamensbevis
LOCATION:Säve Skjutbana\, Nya gärdets väg 101\, Göteborg\, Sverige
X-APPLE-STRUCTURED-LOCATION;VALUE=URI;X-ADDRESS=Nya gärdets väg 101\, Gö
 teborg\, Sverige;X-APPLE-RADIUS=100;X-TITLE=Säve Skjutbana:geo:0,0
END:VEVENT
BEGIN:VTIMEZONE
TZID:Europe/Stockholm
X-LIC-LOCATION:Europe/Stockholm
BEGIN:DAYLIGHT
DTSTART:20200329T030000
TZOFFSETFROM:+0100
TZOFFSETTO:+0200
TZNAME:CEST
END:DAYLIGHT
END:VTIMEZONE
END:VCALENDAR