BEGIN:VCALENDAR
VERSION:2.0
PRODID:-//wp-events-plugin.com//7.2.3.1//EN
TZID:Europe/Stockholm
X-WR-TIMEZONE:Europe/Stockholm
BEGIN:VEVENT
UID:433@hgjvk.se
DTSTART;TZID=Europe/Stockholm:20211114T130000
DTEND;TZID=Europe/Stockholm:20211114T140000
DTSTAMP:20211029T064907Z
URL:https://hgjvk.se/events/hagelgevarsprov-106/
SUMMARY:Hagelgevärsprov
DESCRIPTION:För att kunna göra hagelgevärsprov krävs ett godkänt teori
 prov.\nMedtag legitimiation\, hörselskydd och grön folder jägarexamensb
 evis.\n\n&nbsp\;\n\nCorona-restriktioner:\n\nStanna kvar utanför klubbstu
 gan tills vi påbörjar ert prov. Klubbstugan/Älghuset är ej tillåten a
 tt uppehålla sig i.
LOCATION:Säve Skjutbana\, Nya gärdets väg 101\, Göteborg\, Sverige
X-APPLE-STRUCTURED-LOCATION;VALUE=URI;X-ADDRESS=Nya gärdets väg 101\, Gö
 teborg\, Sverige;X-APPLE-RADIUS=100;X-TITLE=Säve Skjutbana:geo:0,0
END:VEVENT
BEGIN:VTIMEZONE
TZID:Europe/Stockholm
X-LIC-LOCATION:Europe/Stockholm
BEGIN:STANDARD
DTSTART:20211031T020000
TZOFFSETFROM:+0200
TZOFFSETTO:+0100
TZNAME:CET
END:STANDARD
END:VTIMEZONE
END:VCALENDAR